BEGIN:VCALENDAR
VERSION:2.0
PRODID:SchoolNow
CALSCALE:GREGORIAN
BEGIN:VEVENT
UID:53a4cf0e-a2c2-11eb-ba0e-0eb0943810db
DTSTAMP:20210421T165507Z
SUMMARY:Lawn Fertilization/Herbicide Application
URL;VALUE=URI:https://www.sd81.org/about/calendar/2583722/lawn-fertilizatio
 n-herbicide-application
DTSTART;VALUE=DATE:20210424
DTEND;VALUE=DATE:20210425
END:VEVENT
END:VCALENDAR
