BEGIN:VCALENDAR
VERSION:2.0
PRODID:SchoolNow
CALSCALE:GREGORIAN
BEGIN:VEVENT
UID:e7dbb7c6-58dd-11ef-bad3-0affd6e48f21
DTSTAMP:20251216T214624Z
SUMMARY:Board of Education Meeting
URL;VALUE=URI:https://www.sd81.org/about/calendar/6389564/board-of-educatio
 n-meeting
DTSTART:20250820T230000Z
DTEND:20250821T000000Z
END:VEVENT
END:VCALENDAR
