BEGIN:VCALENDAR
VERSION:2.0
PRODID:SchoolNow
CALSCALE:GREGORIAN
BEGIN:VEVENT
UID:e7dbba32-58dd-11ef-89ac-0affd6e48f21
DTSTAMP:20251216T214624Z
SUMMARY:Board of Education Meeting
URL;VALUE=URI:https://www.sd81.org/about/calendar/6389565/board-of-educatio
 n-meeting
DTSTART:20250917T230000Z
DTEND:20250918T000000Z
END:VEVENT
END:VCALENDAR
