BEGIN:VCALENDAR
VERSION:2.0
PRODID:SchoolNow
CALSCALE:GREGORIAN
BEGIN:VEVENT
UID:e7dbbc44-58dd-11ef-9912-0affd6e48f21
DTSTAMP:20251216T214624Z
SUMMARY:Board of Education Meeting
URL;VALUE=URI:https://www.sd81.org/about/calendar/6389566/board-of-educatio
 n-meeting
DTSTART:20251015T230000Z
DTEND:20251016T000000Z
END:VEVENT
END:VCALENDAR
