BEGIN:VCALENDAR
VERSION:2.0
PRODID:SchoolNow
CALSCALE:GREGORIAN
BEGIN:VEVENT
UID:e7dbbd98-58dd-11ef-a551-0affd6e48f21
DTSTAMP:20251216T214624Z
SUMMARY:Board of Education Meeting
URL;VALUE=URI:https://www.sd81.org/about/calendar/6389567/board-of-educatio
 n-meeting
DTSTART:20251120T000000Z
DTEND:20251120T010000Z
END:VEVENT
END:VCALENDAR
