BEGIN:VCALENDAR
VERSION:2.0
PRODID:SchoolNow
CALSCALE:GREGORIAN
BEGIN:VEVENT
UID:d2a4ba24-05c1-11f0-b218-0a58a9feac02
DTSTAMP:20251216T214624Z
SUMMARY:First Day of School K-8th
URL;VALUE=URI:https://www.sd81.org/about/calendar/7732352/first-day-of-scho
 ol-k-8th
DTSTART;VALUE=DATE:20250820
DTEND;VALUE=DATE:20250821
END:VEVENT
END:VCALENDAR
