BEGIN:VCALENDAR
VERSION:2.0
PRODID:SchoolNow
CALSCALE:GREGORIAN
BEGIN:VEVENT
UID:d2a4bb6e-05c1-11f0-b3d6-0a58a9feac02
DTSTAMP:20251216T214624Z
SUMMARY:First Day of Preschool
URL;VALUE=URI:https://www.sd81.org/about/calendar/7732355/first-day-of-pres
 chool
DTSTART;VALUE=DATE:20250825
DTEND;VALUE=DATE:20250826
END:VEVENT
END:VCALENDAR
