BEGIN:VCALENDAR
VERSION:2.0
PRODID:SchoolNow
CALSCALE:GREGORIAN
BEGIN:VEVENT
UID:252a358e-3bf1-11f0-8ef7-0e62274bdadb
DTSTAMP:20251216T214624Z
SUMMARY:Board of Education Meeting
URL;VALUE=URI:https://www.sd81.org/about/calendar/8215294/board-of-educatio
 n-meeting
DTSTART:20270121T000000Z
DTEND:20270121T010000Z
END:VEVENT
END:VCALENDAR
