BEGIN:VCALENDAR
VERSION:2.0
PRODID:SchoolNow
CALSCALE:GREGORIAN
BEGIN:VEVENT
UID:531788a0-4c79-11f0-8604-0a58a9feac02
DTSTAMP:20251216T214624Z
SUMMARY:Board of Education Meeting
URL;VALUE=URI:https://www.sd81.org/about/calendar/8324608/board-of-educatio
 n-meeting
DTSTART:20270218T000000Z
DTEND:20270218T010000Z
END:VEVENT
END:VCALENDAR
