BEGIN:VCALENDAR
VERSION:2.0
PRODID:SchoolNow
CALSCALE:GREGORIAN
BEGIN:VEVENT
UID:5d361df4-731d-11f0-b45b-0a58a9feac02
DTSTAMP:20251216T214624Z
SUMMARY:Labor Day- No School
URL;VALUE=URI:https://www.sd81.org/about/calendar/8477515/labor-day-no-scho
 ol
DTSTART;VALUE=DATE:20250901
DTEND;VALUE=DATE:20250902
END:VEVENT
END:VCALENDAR
