BEGIN:VCALENDAR
VERSION:2.0
PRODID:SchoolNow
CALSCALE:GREGORIAN
BEGIN:VEVENT
UID:5d3648c4-731d-11f0-8ee6-0a58a9feac02
DTSTAMP:20251216T214624Z
SUMMARY:Half Day-School Improvement
URL;VALUE=URI:https://www.sd81.org/about/calendar/8477516/half-day-school-i
 mprovement
DTSTART;VALUE=DATE:20250917
DTEND;VALUE=DATE:20250918
END:VEVENT
END:VCALENDAR
