BEGIN:VCALENDAR
VERSION:2.0
PRODID:SchoolNow
CALSCALE:GREGORIAN
BEGIN:VEVENT
UID:5d364a68-731d-11f0-9b3f-0a58a9feac02
DTSTAMP:20251216T214624Z
SUMMARY:Columbus / Indigenous Peoples' Day-No School
URL;VALUE=URI:https://www.sd81.org/about/calendar/8477517/columbus-indigeno
 us-peoples-day-no-school
DTSTART;VALUE=DATE:20251013
DTEND;VALUE=DATE:20251014
END:VEVENT
END:VCALENDAR
