BEGIN:VCALENDAR
VERSION:2.0
PRODID:SchoolNow
CALSCALE:GREGORIAN
BEGIN:VEVENT
UID:5d364b9e-731d-11f0-8c69-0a58a9feac02
DTSTAMP:20251216T214624Z
SUMMARY:Thanksgiving Break-No School
URL;VALUE=URI:https://www.sd81.org/about/calendar/8477518/thanksgiving-brea
 k-no-school
DTSTART;VALUE=DATE:20251124
DTEND;VALUE=DATE:20251129
END:VEVENT
END:VCALENDAR
