BEGIN:VCALENDAR
VERSION:2.0
PRODID:SchoolNow
CALSCALE:GREGORIAN
BEGIN:VEVENT
UID:5d364ca2-731d-11f0-9fbe-0a58a9feac02
DTSTAMP:20251216T214624Z
SUMMARY:Full Day P/T Conferences-No School
URL;VALUE=URI:https://www.sd81.org/about/calendar/8477519/full-day-p-t-conf
 erences-no-school
DTSTART;VALUE=DATE:20251201
DTEND;VALUE=DATE:20251202
END:VEVENT
END:VCALENDAR
