BEGIN:VCALENDAR
VERSION:2.0
PRODID:SchoolNow
CALSCALE:GREGORIAN
BEGIN:VEVENT
UID:5d365d50-731d-11f0-8f66-0a58a9feac02
DTSTAMP:20251216T214624Z
SUMMARY:Board of Education Meeting
URL;VALUE=URI:https://www.sd81.org/about/calendar/8477536/board-of-educatio
 n-meeting
DTSTART:20270317T230000Z
DTEND:20270318T000000Z
END:VEVENT
END:VCALENDAR
