BEGIN:VCALENDAR
VERSION:2.0
PRODID:SchoolNow
CALSCALE:GREGORIAN
BEGIN:VEVENT
UID:60af4568-b8ec-11f0-9c9d-0a58a9feac02
DTSTAMP:20251216T214624Z
SUMMARY:Board of Education Meeting
URL;VALUE=URI:https://www.sd81.org/about/calendar/8771207/board-of-educatio
 n-meeting
DTSTART:20270421T230000Z
DTEND:20270422T000000Z
END:VEVENT
END:VCALENDAR
