BEGIN:VCALENDAR
VERSION:2.0
PRODID:SchoolNow
CALSCALE:GREGORIAN
BEGIN:VEVENT
UID:60af4892-b8ec-11f0-915f-0a58a9feac02
DTSTAMP:20251216T214624Z
SUMMARY:Board of Education Meeting
URL;VALUE=URI:https://www.sd81.org/about/calendar/8771208/board-of-educatio
 n-meeting
DTSTART:20270519T230000Z
DTEND:20270520T000000Z
END:VEVENT
END:VCALENDAR
