BEGIN:VCALENDAR
VERSION:2.0
PRODID:SchoolNow
CALSCALE:GREGORIAN
BEGIN:VEVENT
UID:60af49c8-b8ec-11f0-8e21-0a58a9feac02
DTSTAMP:20251216T214624Z
SUMMARY:Board of Education Meeting
URL;VALUE=URI:https://www.sd81.org/about/calendar/8771209/board-of-educatio
 n-meeting
DTSTART:20270616T230000Z
DTEND:20270617T000000Z
END:VEVENT
END:VCALENDAR
