BEGIN:VCALENDAR
VERSION:2.0
PRODID:SchoolNow
CALSCALE:GREGORIAN
BEGIN:VEVENT
UID:a80b4b22-c743-11f0-abf0-0a58a9feac02
DTSTAMP:20251216T214624Z
SUMMARY:Board of Education Meeting
URL;VALUE=URI:https://www.sd81.org/about/calendar/8807725/board-of-educatio
 n-meeting
DTSTART:20270721T230000Z
DTEND:20270722T000000Z
END:VEVENT
END:VCALENDAR
