BEGIN:VCALENDAR
VERSION:2.0
PRODID:SchoolNow
CALSCALE:GREGORIAN
BEGIN:VEVENT
UID:e8229fc8-d600-11f0-aa77-0a58a9feac02
DTSTAMP:20251216T214624Z
SUMMARY:BPAC - Winter Wonderland at Washington School
LOCATION:Washington School
URL;VALUE=URI:https://www.sd81.org/about/calendar/8821318/bpac-winter-wonde
 rland-at-washington-school
DTSTART:20251210T213000Z
DTEND:20251210T230000Z
END:VEVENT
END:VCALENDAR
